BEGIN:VCALENDAR
VERSION:2.0
PRODID:-//Lawyers Clearinghouse - ECPv6.15.16.1//NONSGML v1.0//EN
CALSCALE:GREGORIAN
METHOD:PUBLISH
X-WR-CALNAME:Lawyers Clearinghouse
X-ORIGINAL-URL:https://lawyersclearinghouse.org
X-WR-CALDESC:Events for Lawyers Clearinghouse
REFRESH-INTERVAL;VALUE=DURATION:PT1H
X-Robots-Tag:noindex
X-PUBLISHED-TTL:PT1H
BEGIN:VTIMEZONE
TZID:America/New_York
BEGIN:DAYLIGHT
TZOFFSETFROM:-0500
TZOFFSETTO:-0400
TZNAME:EDT
DTSTART:20250309T070000
END:DAYLIGHT
BEGIN:STANDARD
TZOFFSETFROM:-0400
TZOFFSETTO:-0500
TZNAME:EST
DTSTART:20251102T060000
END:STANDARD
BEGIN:DAYLIGHT
TZOFFSETFROM:-0500
TZOFFSETTO:-0400
TZNAME:EDT
DTSTART:20260308T070000
END:DAYLIGHT
BEGIN:STANDARD
TZOFFSETFROM:-0400
TZOFFSETTO:-0500
TZNAME:EST
DTSTART:20261101T060000
END:STANDARD
BEGIN:DAYLIGHT
TZOFFSETFROM:-0500
TZOFFSETTO:-0400
TZNAME:EDT
DTSTART:20270314T070000
END:DAYLIGHT
BEGIN:STANDARD
TZOFFSETFROM:-0400
TZOFFSETTO:-0500
TZNAME:EST
DTSTART:20271107T060000
END:STANDARD
END:VTIMEZONE
BEGIN:VEVENT
DTSTART;TZID=America/New_York:20260310T120000
DTEND;TZID=America/New_York:20260310T140000
DTSTAMP:20260422T192941
CREATED:20251017T025144Z
LAST-MODIFIED:20251017T025144Z
UID:14389-1773144000-1773151200@lawyersclearinghouse.org
SUMMARY:All Fellows A2J Luncheon
DESCRIPTION:For A2J Fellows\, Fellows’ Partner Organizations\, and Clearinghouse board members only. \nPlease join us for an All Fellows luncheon. As a reminder\, a photo ID is required to enter the building. If you would like to attend but do not have event details\, please reach out to Talya at tpecullan@lawyersclearinghouse.org.
URL:https://lawyersclearinghouse.org/event/all-fellows-a2j-luncheon/
LOCATION:Mintz\, One Financial Center\, Boston\, MA\, 02110\, United States
CATEGORIES:A2J Fellows Meetings
ORGANIZER;CN="Susan Gedrick":MAILTO:sgedrick@lawyersclearinghouse.org
END:VEVENT
END:VCALENDAR