BEGIN:VCALENDAR
VERSION:2.0
PRODID:-//Lawyers Clearinghouse - ECPv6.15.16.1//NONSGML v1.0//EN
CALSCALE:GREGORIAN
METHOD:PUBLISH
X-WR-CALNAME:Lawyers Clearinghouse
X-ORIGINAL-URL:https://lawyersclearinghouse.org
X-WR-CALDESC:Events for Lawyers Clearinghouse
REFRESH-INTERVAL;VALUE=DURATION:PT1H
X-Robots-Tag:noindex
X-PUBLISHED-TTL:PT1H
BEGIN:VTIMEZONE
TZID:America/New_York
BEGIN:DAYLIGHT
TZOFFSETFROM:-0500
TZOFFSETTO:-0400
TZNAME:EDT
DTSTART:20250309T070000
END:DAYLIGHT
BEGIN:STANDARD
TZOFFSETFROM:-0400
TZOFFSETTO:-0500
TZNAME:EST
DTSTART:20251102T060000
END:STANDARD
BEGIN:DAYLIGHT
TZOFFSETFROM:-0500
TZOFFSETTO:-0400
TZNAME:EDT
DTSTART:20260308T070000
END:DAYLIGHT
BEGIN:STANDARD
TZOFFSETFROM:-0400
TZOFFSETTO:-0500
TZNAME:EST
DTSTART:20261101T060000
END:STANDARD
BEGIN:DAYLIGHT
TZOFFSETFROM:-0500
TZOFFSETTO:-0400
TZNAME:EDT
DTSTART:20270314T070000
END:DAYLIGHT
BEGIN:STANDARD
TZOFFSETFROM:-0400
TZOFFSETTO:-0500
TZNAME:EST
DTSTART:20271107T060000
END:STANDARD
END:VTIMEZONE
BEGIN:VEVENT
DTSTART;TZID=America/New_York:20260424T090000
DTEND;TZID=America/New_York:20260424T110000
DTSTAMP:20260424T012018
CREATED:20251118T044845Z
LAST-MODIFIED:20251118T044845Z
UID:14679-1777021200-1777028400@lawyersclearinghouse.org
SUMMARY:Free Legal Clinic (Virtual)
DESCRIPTION:Do you need assistance with a civil legal matter? Does your household make under 200% of the Federal Poverty Level? We may be able to connect you with free assistance from volunteer attorneys.\n \nCommon case types: Eviction; housing discrimination; housing conditions; Social Security Income and Social Security Disability Income (SSI/SSDI) denials and appeals; Emergency Aid to the Elderly\, Disabled and Children (EAEDC); credit and tax issues; unemployment; and wills/trusts/estates. \nAppointments are required for virtual clinics. To sign up\, please contact our Clinic Manager\, Sean Thekkeparayil\, to discuss your legal concerns in more detail:\nsthekkeparayil@lawyersclearinghouse.org or 617-544-3434 ext. 110. \nOr check out the full schedule below for a list of in-person clinics\, which allow walk-ins:\nView the full 2024-2025 Clinic Schedule
URL:https://lawyersclearinghouse.org/event/free-legal-clinic-virtual-21/
LOCATION:Zoom Video Conferencing
CATEGORIES:Massachusetts Legal Clinic for the Homeless
ORGANIZER;CN="Sean Thekkeparayil":MAILTO:sthekkeparayil@lawyersclearinghouse.org
END:VEVENT
BEGIN:VEVENT
DTSTART;TZID=America/New_York:20260428T140000
DTEND;TZID=America/New_York:20260428T153000
DTSTAMP:20260424T012018
CREATED:20251124T152949Z
LAST-MODIFIED:20251124T153017Z
UID:14694-1777384800-1777390200@lawyersclearinghouse.org
SUMMARY:CORI: What Nonprofits Need to Know to Help Their Clients (Virtual)
DESCRIPTION:*Note: This training is not designed to help advise nonprofits on their hiring practices. It is solely focused on assisting clients with criminal records.* \nClick here to register. You will receive a Zoom link upon registration. \nThis criminal records training is intended for nonprofits whose staff are involved with counseling or offering services in the community to individuals who may have criminal records. It will address the following:\n\nWhat exactly is a criminal record in Massachusetts? Who has the data? Who gets access to the data?\nHow can a nonprofit help a client reduce the barriers posed by criminal records?\nWhat is the process to seal a CORI? Can I refer my client to free legal resources for sealing?\nWhat rights do individuals with a sealed CORI have when they are applying for a job? Housing?\nWhat is the process to expunge a charge on a CORI? Are there free legal resources?\nWhat are the concerns for an individual with a CORI who has an immigration issue?\n\nPresenter: Crispin Birnbaum\, Access to Justice Fellow
URL:https://lawyersclearinghouse.org/event/cori-what-nonprofits-need-to-know-to-help-their-clients-virtual-28/
LOCATION:Zoom Video Conferencing
CATEGORIES:Legal Workshops for Nonprofits
ORGANIZER;CN="Shifrah Halevi":MAILTO:nonprofit@lawyersclearinghouse.org
END:VEVENT
BEGIN:VEVENT
DTSTART;TZID=America/New_York:20260430T120000
DTEND;TZID=America/New_York:20260430T150000
DTSTAMP:20260424T012018
CREATED:20260220T194805Z
LAST-MODIFIED:20260306T210157Z
UID:15010-1777550400-1777561200@lawyersclearinghouse.org
SUMMARY:Consultation: Written Information Security Programs (WISPs) for MA Nonprofits
DESCRIPTION:Registration: Click here. You may apply for a consultation spot (501(c)(3) tax-exempt nonprofits only) or register to attend only the workshop (open to everyone).  \nEvent fee: If you would like to pay the $25 per organization event fee\, you may do so here. This fee supports Lawyers Clearinghouse\, however if it’s difficult to pay\, you may register and attend without it. \nMassachusetts law requires anyone that owns or licenses certain kinds of personal information about a resident of the Commonwealth to develop\, implement\, and maintain a Written Information Security Program (WISP). \nJoin us for a workshop on cybersecurity and WISPs\, followed by a private consultation with volunteer attorneys for interested nonprofits. Consultation openings are limited; let us know if you’d like to participate. \nThis is a two-part program:\n12:00 PM – 1:15 PM: Workshop on cybersecurity and MA WISPs\n1:15 PM – 3:00 PM: Private consultations with volunteer attorneys \nDuring the consultations\, volunteer attorneys from Morgan Lewis and Bank of America will review your current WISP and make recommendations\, or discuss how to develop a new WISP for your nonprofit. Eligible organizations may request a referral through Lawyers Clearinghouse to follow up on legal issues. \nAny Massachusetts nonprofit may register to attend the workshop. Officers\, board members\, executive directors\, and senior managers of Massachusetts 501(c)(3) nonprofits are welcome to register for the workshop and request a private consultation. \nWorkshop presenters: Ann Westerheim (Ekaru) and Shifrah Halevi (Lawyers Clearinghouse)\nVolunteer Attorneys: Morgan Lewis and Bank of America
URL:https://lawyersclearinghouse.org/event/april-2026-wisp/
LOCATION:Zoom Video Conferencing
CATEGORIES:Legal Workshops for Nonprofits
ORGANIZER;CN="Shifrah Halevi":MAILTO:nonprofit@lawyersclearinghouse.org
END:VEVENT
END:VCALENDAR