BEGIN:VCALENDAR
VERSION:2.0
PRODID:-//Lawyers Clearinghouse - ECPv6.15.16.1//NONSGML v1.0//EN
CALSCALE:GREGORIAN
METHOD:PUBLISH
X-WR-CALNAME:Lawyers Clearinghouse
X-ORIGINAL-URL:https://lawyersclearinghouse.org
X-WR-CALDESC:Events for Lawyers Clearinghouse
REFRESH-INTERVAL;VALUE=DURATION:PT1H
X-Robots-Tag:noindex
X-PUBLISHED-TTL:PT1H
BEGIN:VTIMEZONE
TZID:America/New_York
BEGIN:DAYLIGHT
TZOFFSETFROM:-0500
TZOFFSETTO:-0400
TZNAME:EDT
DTSTART:20240310T070000
END:DAYLIGHT
BEGIN:STANDARD
TZOFFSETFROM:-0400
TZOFFSETTO:-0500
TZNAME:EST
DTSTART:20241103T060000
END:STANDARD
BEGIN:DAYLIGHT
TZOFFSETFROM:-0500
TZOFFSETTO:-0400
TZNAME:EDT
DTSTART:20250309T070000
END:DAYLIGHT
BEGIN:STANDARD
TZOFFSETFROM:-0400
TZOFFSETTO:-0500
TZNAME:EST
DTSTART:20251102T060000
END:STANDARD
BEGIN:DAYLIGHT
TZOFFSETFROM:-0500
TZOFFSETTO:-0400
TZNAME:EDT
DTSTART:20260308T070000
END:DAYLIGHT
BEGIN:STANDARD
TZOFFSETFROM:-0400
TZOFFSETTO:-0500
TZNAME:EST
DTSTART:20261101T060000
END:STANDARD
BEGIN:DAYLIGHT
TZOFFSETFROM:-0500
TZOFFSETTO:-0400
TZNAME:EDT
DTSTART:20270314T070000
END:DAYLIGHT
BEGIN:STANDARD
TZOFFSETFROM:-0400
TZOFFSETTO:-0500
TZNAME:EST
DTSTART:20271107T060000
END:STANDARD
END:VTIMEZONE
BEGIN:VEVENT
DTSTART;TZID=America/New_York:20260319T150000
DTEND;TZID=America/New_York:20260319T180000
DTSTAMP:20260422T210345
CREATED:20260112T155515Z
LAST-MODIFIED:20260224T150540Z
UID:14908-1773932400-1773943200@lawyersclearinghouse.org
SUMMARY:Board & Staff DEI Retreat
DESCRIPTION:For board members\, committee members\, and invited guests only. \nPlease contact Susan to be forwarded the meeting invitation.
URL:https://lawyersclearinghouse.org/event/board-staff-dei-retreat/
CATEGORIES:Board Meetings
ORGANIZER;CN="Susan Gedrick":MAILTO:sgedrick@lawyersclearinghouse.org
END:VEVENT
BEGIN:VEVENT
DTSTART;TZID=America/New_York:20260115T120000
DTEND;TZID=America/New_York:20260115T133000
DTSTAMP:20260422T210345
CREATED:20251113T163041Z
LAST-MODIFIED:20251113T163041Z
UID:14579-1768478400-1768483800@lawyersclearinghouse.org
SUMMARY:Board Meeting
DESCRIPTION:For board members\, committee members and invited guests only. \nPlease contact Susan to be forwarded the meeting invitation.
URL:https://lawyersclearinghouse.org/event/board-meeting-2/
CATEGORIES:Board Meetings
ORGANIZER;CN="Susan Gedrick":MAILTO:sgedrick@lawyersclearinghouse.org
END:VEVENT
BEGIN:VEVENT
DTSTART;TZID=America/New_York:20251210T173000
DTEND;TZID=America/New_York:20251210T190000
DTSTAMP:20260422T210345
CREATED:20251118T042631Z
LAST-MODIFIED:20251118T042701Z
UID:14656-1765387800-1765393200@lawyersclearinghouse.org
SUMMARY:Clearinghouse Holiday Social
DESCRIPTION:For board and committee members\, staff\, and invited guests only. \nContact Susan for details.
URL:https://lawyersclearinghouse.org/event/clearinghouse-holiday-social/
CATEGORIES:Board Meetings
ORGANIZER;CN="Susan Gedrick":MAILTO:sgedrick@lawyersclearinghouse.org
END:VEVENT
BEGIN:VEVENT
DTSTART;TZID=America/New_York:20251210T160000
DTEND;TZID=America/New_York:20251210T171500
DTSTAMP:20260422T210345
CREATED:20251118T042544Z
LAST-MODIFIED:20251118T042753Z
UID:14654-1765382400-1765386900@lawyersclearinghouse.org
SUMMARY:New Board Member Orientation
DESCRIPTION:Contact Susan for details.
URL:https://lawyersclearinghouse.org/event/new-board-member-orientation/
CATEGORIES:Board Meetings
ORGANIZER;CN="Susan Gedrick":MAILTO:sgedrick@lawyersclearinghouse.org
END:VEVENT
BEGIN:VEVENT
DTSTART;TZID=America/New_York:20251120T120000
DTEND;TZID=America/New_York:20251120T133000
DTSTAMP:20260422T210345
CREATED:20251112T203521Z
LAST-MODIFIED:20251113T162957Z
UID:14575-1763640000-1763645400@lawyersclearinghouse.org
SUMMARY:Board Meeting
DESCRIPTION:For board members\, committee members and invited guests only. \nPlease contact Susan to be forwarded the meeting invitation.
URL:https://lawyersclearinghouse.org/event/board-meeting/
LOCATION:Zoom Video Conferencing
CATEGORIES:Board Meetings
ORGANIZER;CN="Susan Gedrick":MAILTO:sgedrick@lawyersclearinghouse.org
END:VEVENT
END:VCALENDAR