BEGIN:VCALENDAR
VERSION:2.0
PRODID:-//Lawyers Clearinghouse - ECPv6.15.16.1//NONSGML v1.0//EN
CALSCALE:GREGORIAN
METHOD:PUBLISH
X-ORIGINAL-URL:https://lawyersclearinghouse.org
X-WR-CALDESC:Events for Lawyers Clearinghouse
REFRESH-INTERVAL;VALUE=DURATION:PT1H
X-Robots-Tag:noindex
X-PUBLISHED-TTL:PT1H
BEGIN:VTIMEZONE
TZID:America/New_York
BEGIN:DAYLIGHT
TZOFFSETFROM:-0500
TZOFFSETTO:-0400
TZNAME:EDT
DTSTART:20250309T070000
END:DAYLIGHT
BEGIN:STANDARD
TZOFFSETFROM:-0400
TZOFFSETTO:-0500
TZNAME:EST
DTSTART:20251102T060000
END:STANDARD
BEGIN:DAYLIGHT
TZOFFSETFROM:-0500
TZOFFSETTO:-0400
TZNAME:EDT
DTSTART:20260308T070000
END:DAYLIGHT
BEGIN:STANDARD
TZOFFSETFROM:-0400
TZOFFSETTO:-0500
TZNAME:EST
DTSTART:20261101T060000
END:STANDARD
BEGIN:DAYLIGHT
TZOFFSETFROM:-0500
TZOFFSETTO:-0400
TZNAME:EDT
DTSTART:20270314T070000
END:DAYLIGHT
BEGIN:STANDARD
TZOFFSETFROM:-0400
TZOFFSETTO:-0500
TZNAME:EST
DTSTART:20271107T060000
END:STANDARD
END:VTIMEZONE
BEGIN:VEVENT
DTSTART;TZID=America/New_York:20260312T160000
DTEND;TZID=America/New_York:20260312T180000
DTSTAMP:20260422T213439
CREATED:20250812T152025Z
LAST-MODIFIED:20250814T190608Z
UID:13895-1773331200-1773338400@lawyersclearinghouse.org
SUMMARY:Free CORI Sealing Clinic (Virtual)
DESCRIPTION:Do you need your CORI (criminal record) sealed or expunged? You may be eligible for free assistance from a volunteer attorney\, conducted via Zoom video conferencing. Please note\, this service is only intended for people with Massachusetts-based criminal records. \nHow it Works: \n\nTo get started\, sign up for the waitlist.\nWhen you get to the top of the waitlist\, Lawyers Clearinghouse will call you to schedule your clinic date and get your consent to pull a copy of your CORI. Note: It may take some time to receive a date depending on the length of the waitlist.\nOn your scheduled clinic date\, you will meet with volunteer attorneys for 30-60 minutes over video conferencing or by phone. They will share your CORI with you and discuss the eligibility of your record for sealing and/or expungement.\nIf you are eligible\, the attorneys will work with you on filing a petition to request sealing and/or expungement and discuss next steps. If you are not currently eligible\, they will discuss your timeline for eligibility. Note: It will take a few months to receive a final sealing and/or expungement decision from Probation or the court.\n\nView the full 2025-2026 Clinic Schedule \nQuestions? Contact Sean by email or at 617-544-3434 ext. 110.
URL:https://lawyersclearinghouse.org/event/free-cori-sealing-clinic-virtual-47/
LOCATION:Zoom Video Conferencing
CATEGORIES:CORI Sealing & Expungement Clinic
ORGANIZER;CN="Sean Thekkeparayil":MAILTO:sthekkeparayil@lawyersclearinghouse.org
END:VEVENT
BEGIN:VEVENT
DTSTART;TZID=America/New_York:20260326T160000
DTEND;TZID=America/New_York:20260326T180000
DTSTAMP:20260422T213439
CREATED:20250812T153905Z
LAST-MODIFIED:20250814T190555Z
UID:13897-1774540800-1774548000@lawyersclearinghouse.org
SUMMARY:Free CORI Sealing Clinic (Virtual)
DESCRIPTION:Do you need your CORI (criminal record) sealed or expunged? You may be eligible for free assistance from a volunteer attorney\, conducted via Zoom video conferencing. Please note\, this service is only intended for people with Massachusetts-based criminal records. \nHow it Works: \n\nTo get started\, sign up for the waitlist.\nWhen you get to the top of the waitlist\, Lawyers Clearinghouse will call you to schedule your clinic date and get your consent to pull a copy of your CORI. Note: It may take some time to receive a date depending on the length of the waitlist.\nOn your scheduled clinic date\, you will meet with volunteer attorneys for 30-60 minutes over video conferencing or by phone. They will share your CORI with you and discuss the eligibility of your record for sealing and/or expungement.\nIf you are eligible\, the attorneys will work with you on filing a petition to request sealing and/or expungement and discuss next steps. If you are not currently eligible\, they will discuss your timeline for eligibility. Note: It will take a few months to receive a final sealing and/or expungement decision from Probation or the court.\n\nView the full 2025-2026 Clinic Schedule \nQuestions? Contact Sean by email or at 617-544-3434 ext. 110.
URL:https://lawyersclearinghouse.org/event/free-cori-sealing-clinic-virtual-48/
LOCATION:Zoom Video Conferencing
CATEGORIES:CORI Sealing & Expungement Clinic
ORGANIZER;CN="Sean Thekkeparayil":MAILTO:sthekkeparayil@lawyersclearinghouse.org
END:VEVENT
END:VCALENDAR