BEGIN:VCALENDAR
VERSION:2.0
PRODID:-//Lawyers Clearinghouse - ECPv6.15.16.1//NONSGML v1.0//EN
CALSCALE:GREGORIAN
METHOD:PUBLISH
X-ORIGINAL-URL:https://lawyersclearinghouse.org
X-WR-CALDESC:Events for Lawyers Clearinghouse
REFRESH-INTERVAL;VALUE=DURATION:PT1H
X-Robots-Tag:noindex
X-PUBLISHED-TTL:PT1H
BEGIN:VTIMEZONE
TZID:America/New_York
BEGIN:DAYLIGHT
TZOFFSETFROM:-0500
TZOFFSETTO:-0400
TZNAME:EDT
DTSTART:20250309T070000
END:DAYLIGHT
BEGIN:STANDARD
TZOFFSETFROM:-0400
TZOFFSETTO:-0500
TZNAME:EST
DTSTART:20251102T060000
END:STANDARD
BEGIN:DAYLIGHT
TZOFFSETFROM:-0500
TZOFFSETTO:-0400
TZNAME:EDT
DTSTART:20260308T070000
END:DAYLIGHT
BEGIN:STANDARD
TZOFFSETFROM:-0400
TZOFFSETTO:-0500
TZNAME:EST
DTSTART:20261101T060000
END:STANDARD
BEGIN:DAYLIGHT
TZOFFSETFROM:-0500
TZOFFSETTO:-0400
TZNAME:EDT
DTSTART:20270314T070000
END:DAYLIGHT
BEGIN:STANDARD
TZOFFSETFROM:-0400
TZOFFSETTO:-0500
TZNAME:EST
DTSTART:20271107T060000
END:STANDARD
END:VTIMEZONE
BEGIN:VEVENT
DTSTART;TZID=America/New_York:20260306T091500
DTEND;TZID=America/New_York:20260306T123000
DTSTAMP:20260424T154157
CREATED:20251224T220243Z
LAST-MODIFIED:20260130T172426Z
UID:14883-1772788500-1772800200@lawyersclearinghouse.org
SUMMARY:Clinic in a Box® - Free Event - Compassionate Leave and Social Media Policies for Nonprofits
DESCRIPTION:Click here to apply: 2026 Clinic in a Box® Compassionate Leave and Social Media Policies (This clinic is for established Massachusetts nonprofit corporations with employees in Massachusetts.) \nCheck-in at 9:15 a.m. \nClinic 10:00 a.m. – 12:30 p.m. \n*Please apply by Friday\, February 13\, 2026* \nCompassionate Leave Policies and Social Media Policies are key components of nonprofit HR. If your organization is selected to participate in this free\, in-person event\, volunteer attorneys will review your existing compassionate leave and social media policies or provide guidance for creating new ones\, and address recent developments in these areas. \nPlease note: If your organization is selected to participate in the clinic\, your executive director\, board chair\, or other senior staff or board member responsible for governing or managing your organization must be able to attend.
URL:https://lawyersclearinghouse.org/event/clinic-in-a-box-free-event-compassionate-leave-and-social-media-policies-for-nonprofits/
LOCATION:Mintz\, One Financial Center\, Boston\, MA\, 02110\, United States
CATEGORIES:Legal Workshops for Nonprofits
ORGANIZER;CN="Shifrah Halevi":MAILTO:nonprofit@lawyersclearinghouse.org
END:VEVENT
END:VCALENDAR