BEGIN:VCALENDAR
VERSION:2.0
PRODID:-//Lawyers Clearinghouse - ECPv6.15.16.1//NONSGML v1.0//EN
CALSCALE:GREGORIAN
METHOD:PUBLISH
X-ORIGINAL-URL:https://lawyersclearinghouse.org
X-WR-CALDESC:Events for Lawyers Clearinghouse
REFRESH-INTERVAL;VALUE=DURATION:PT1H
X-Robots-Tag:noindex
X-PUBLISHED-TTL:PT1H
BEGIN:VTIMEZONE
TZID:America/New_York
BEGIN:DAYLIGHT
TZOFFSETFROM:-0500
TZOFFSETTO:-0400
TZNAME:EDT
DTSTART:20240310T070000
END:DAYLIGHT
BEGIN:STANDARD
TZOFFSETFROM:-0400
TZOFFSETTO:-0500
TZNAME:EST
DTSTART:20241103T060000
END:STANDARD
BEGIN:DAYLIGHT
TZOFFSETFROM:-0500
TZOFFSETTO:-0400
TZNAME:EDT
DTSTART:20250309T070000
END:DAYLIGHT
BEGIN:STANDARD
TZOFFSETFROM:-0400
TZOFFSETTO:-0500
TZNAME:EST
DTSTART:20251102T060000
END:STANDARD
BEGIN:DAYLIGHT
TZOFFSETFROM:-0500
TZOFFSETTO:-0400
TZNAME:EDT
DTSTART:20260308T070000
END:DAYLIGHT
BEGIN:STANDARD
TZOFFSETFROM:-0400
TZOFFSETTO:-0500
TZNAME:EST
DTSTART:20261101T060000
END:STANDARD
END:VTIMEZONE
BEGIN:VEVENT
DTSTART;TZID=America/New_York:20251204T160000
DTEND;TZID=America/New_York:20251204T180000
DTSTAMP:20260424T164021
CREATED:20250812T151430Z
LAST-MODIFIED:20250814T190807Z
UID:13883-1764864000-1764871200@lawyersclearinghouse.org
SUMMARY:Free CORI Sealing Clinic (Virtual)
DESCRIPTION:Do you need your CORI (criminal record) sealed or expunged? You may be eligible for free assistance from a volunteer attorney\, conducted via Zoom video conferencing. Please note\, this service is only intended for people with Massachusetts-based criminal records. \nHow it Works: \n\nTo get started\, sign up for the waitlist.\nWhen you get to the top of the waitlist\, Lawyers Clearinghouse will call you to schedule your clinic date and get your consent to pull a copy of your CORI. Note: It may take some time to receive a date depending on the length of the waitlist.\nOn your scheduled clinic date\, you will meet with volunteer attorneys for 30-60 minutes over video conferencing or by phone. They will share your CORI with you and discuss the eligibility of your record for sealing and/or expungement.\nIf you are eligible\, the attorneys will work with you on filing a petition to request sealing and/or expungement and discuss next steps. If you are not currently eligible\, they will discuss your timeline for eligibility. Note: It will take a few months to receive a final sealing and/or expungement decision from Probation or the court.\n\nView the full 2025-2026 Clinic Schedule \nQuestions? Contact Sean by email or at 617-544-3434 ext. 110.
URL:https://lawyersclearinghouse.org/event/free-cori-sealing-clinic-virtual-41/
LOCATION:Zoom Video Conferencing
CATEGORIES:CORI Sealing & Expungement Clinic
ORGANIZER;CN="Sean Thekkeparayil":MAILTO:sthekkeparayil@lawyersclearinghouse.org
END:VEVENT
BEGIN:VEVENT
DTSTART;TZID=America/New_York:20251205T083000
DTEND;TZID=America/New_York:20251205T110000
DTSTAMP:20260424T164021
CREATED:20250814T202553Z
LAST-MODIFIED:20250814T202553Z
UID:13983-1764923400-1764932400@lawyersclearinghouse.org
SUMMARY:Free Legal Clinic (St. Francis House)
DESCRIPTION:Do you need assistance with a civil legal matter? Does your household make under 200% of the Federal Poverty Level? We may be able to connect you with free assistance from volunteer attorneys.\n \nCommon case types: Eviction; housing discrimination; housing conditions; Social Security Income and Social Security Disability Income (SSI/SSDI) denials and appeals; Emergency Aid to the Elderly\, Disabled and Children (EAEDC); credit and tax issues; unemployment; and wills/trusts/estates. \nWalk-ins are welcome at in-person clinics. If you would like to sign up in advance or discuss your legal concern in more detail\, please contact our Clinic Manager\, Sean Thekkeparayil: sthekkeparayil@lawyersclearinghouse.org or 617-544-3434 ext. 110. \nView the full 2025-2026 Clinic Schedule
URL:https://lawyersclearinghouse.org/event/free-legal-clinic-st-francis-house-9/
LOCATION:St. Francis House\, 39 Boylston Street\, Boston\, MA\, 02111\, United States
CATEGORIES:Massachusetts Legal Clinic for the Homeless
ORGANIZER;CN="Sean Thekkeparayil":MAILTO:sthekkeparayil@lawyersclearinghouse.org
END:VEVENT
BEGIN:VEVENT
DTSTART;TZID=America/New_York:20251212T100000
DTEND;TZID=America/New_York:20251212T113000
DTSTAMP:20260424T164021
CREATED:20250808T213508Z
LAST-MODIFIED:20250808T213508Z
UID:13858-1765533600-1765539000@lawyersclearinghouse.org
SUMMARY:CORI: What Nonprofits Need to Know to Help Their Clients (Virtual)
DESCRIPTION:*Note: This training is not designed to help advise nonprofits on their hiring practices. It is solely focused on assisting clients with criminal records.* \nRegistration: Sign up here. You will receive a Zoom link upon registration. \nThis criminal records training is intended for nonprofits whose staff are involved with counseling or offering services in the community to individuals who may have criminal records. It will address the following:\n\nWhat exactly is a criminal record in Massachusetts? Who has the data? Who gets access to the data?\nHow can a nonprofit help a client reduce the barriers posed by criminal records?\nWhat is the process to seal a CORI? Can I refer my client to free legal resources for sealing?\nWhat rights do individuals with a sealed CORI have when they are applying for a job? Housing?\nWhat is the process to expunge a charge on a CORI? Are there free legal resources?\nWhat are the concerns for an individual with a CORI who has an immigration issue?\n\nPresenter: Crispin Birnbaum\, Access to Justice Fellow
URL:https://lawyersclearinghouse.org/event/cori-what-nonprofits-need-to-know-to-help-their-clients-virtual-26/
LOCATION:Zoom Video Conferencing
CATEGORIES:Legal Workshops for Nonprofits
ORGANIZER;CN="Shifrah Halevi":MAILTO:nonprofit@lawyersclearinghouse.org
END:VEVENT
BEGIN:VEVENT
DTSTART;TZID=America/New_York:20251218T160000
DTEND;TZID=America/New_York:20251218T180000
DTSTAMP:20260424T164021
CREATED:20250812T151533Z
LAST-MODIFIED:20250814T190751Z
UID:13885-1766073600-1766080800@lawyersclearinghouse.org
SUMMARY:Free CORI Sealing Clinic (Virtual)
DESCRIPTION:Do you need your CORI (criminal record) sealed or expunged? You may be eligible for free assistance from a volunteer attorney\, conducted via Zoom video conferencing. Please note\, this service is only intended for people with Massachusetts-based criminal records. \nHow it Works: \n\nTo get started\, sign up for the waitlist.\nWhen you get to the top of the waitlist\, Lawyers Clearinghouse will call you to schedule your clinic date and get your consent to pull a copy of your CORI. Note: It may take some time to receive a date depending on the length of the waitlist.\nOn your scheduled clinic date\, you will meet with volunteer attorneys for 30-60 minutes over video conferencing or by phone. They will share your CORI with you and discuss the eligibility of your record for sealing and/or expungement.\nIf you are eligible\, the attorneys will work with you on filing a petition to request sealing and/or expungement and discuss next steps. If you are not currently eligible\, they will discuss your timeline for eligibility. Note: It will take a few months to receive a final sealing and/or expungement decision from Probation or the court.\n\nView the full 2025-2026 Clinic Schedule \nQuestions? Contact Sean by email or at 617-544-3434 ext. 110.
URL:https://lawyersclearinghouse.org/event/free-cori-sealing-clinic-virtual-42/
LOCATION:Zoom Video Conferencing
CATEGORIES:CORI Sealing & Expungement Clinic
ORGANIZER;CN="Sean Thekkeparayil":MAILTO:sthekkeparayil@lawyersclearinghouse.org
END:VEVENT
END:VCALENDAR