BEGIN:VCALENDAR
VERSION:2.0
PRODID:-//Lawyers Clearinghouse - ECPv6.15.16.1//NONSGML v1.0//EN
CALSCALE:GREGORIAN
METHOD:PUBLISH
X-ORIGINAL-URL:https://lawyersclearinghouse.org
X-WR-CALDESC:Events for Lawyers Clearinghouse
REFRESH-INTERVAL;VALUE=DURATION:PT1H
X-Robots-Tag:noindex
X-PUBLISHED-TTL:PT1H
BEGIN:VTIMEZONE
TZID:America/New_York
BEGIN:DAYLIGHT
TZOFFSETFROM:-0500
TZOFFSETTO:-0400
TZNAME:EDT
DTSTART:20250309T070000
END:DAYLIGHT
BEGIN:STANDARD
TZOFFSETFROM:-0400
TZOFFSETTO:-0500
TZNAME:EST
DTSTART:20251102T060000
END:STANDARD
BEGIN:DAYLIGHT
TZOFFSETFROM:-0500
TZOFFSETTO:-0400
TZNAME:EDT
DTSTART:20260308T070000
END:DAYLIGHT
BEGIN:STANDARD
TZOFFSETFROM:-0400
TZOFFSETTO:-0500
TZNAME:EST
DTSTART:20261101T060000
END:STANDARD
BEGIN:DAYLIGHT
TZOFFSETFROM:-0500
TZOFFSETTO:-0400
TZNAME:EDT
DTSTART:20270314T070000
END:DAYLIGHT
BEGIN:STANDARD
TZOFFSETFROM:-0400
TZOFFSETTO:-0500
TZNAME:EST
DTSTART:20271107T060000
END:STANDARD
END:VTIMEZONE
BEGIN:VEVENT
DTSTART;TZID=America/New_York:20260311T140000
DTEND;TZID=America/New_York:20260311T150000
DTSTAMP:20260424T134405
CREATED:20260218T212522Z
LAST-MODIFIED:20260218T212537Z
UID:14975-1773237600-1773241200@lawyersclearinghouse.org
SUMMARY:Access to Justice Fellows Program Information Session
DESCRIPTION:Are you winding down your legal practice? Do you want to volunteer in retirement? Consider becoming an Access to Justice Fellow!  \nLearn more about this innovative pro bono program for senior attorneys and judges at an upcoming virtual Information Session on March 11. A panel of past and continuing Fellows will discuss their experiences and answer questions. \nRegistration: Click here
URL:https://lawyersclearinghouse.org/event/a2j-info-2026/
LOCATION:Zoom Video Conferencing
CATEGORIES:A2J Fellows Meetings,Other Events
ORGANIZER;CN="Chris City":MAILTO:ccity@lawyersclearinghouse.org
END:VEVENT
BEGIN:VEVENT
DTSTART;TZID=America/New_York:20260312T160000
DTEND;TZID=America/New_York:20260312T180000
DTSTAMP:20260424T134405
CREATED:20250808T210723Z
LAST-MODIFIED:20250808T210723Z
UID:13850-1773331200-1773338400@lawyersclearinghouse.org
SUMMARY:Nonprofit Incorporation Workshop (Virtual)
DESCRIPTION:Registration: Click here. You will receive a Zoom link upon sign up. \nPayment: Click here. The event fee is $25 per organization\, however if it’s difficult to pay you may still register and attend the workshop without it. \nAn essential overview of how to establish a nonprofit in Massachusetts and obtain a 501(c)(3) tax-exemption\, with key points for maintaining tax-exempt status. Strongly recommended for anyone starting a nonprofit. Workshop participants will receive a copy of the presentation slides and additional reference materials. Topics include:  \n\nFor-profit or nonprofit?\nWhat is a nonprofit?\nIncorporating & structuring a nonprofit\nFiscal sponsorship\nState reporting & regulation\nFederal tax exemption\nOngoing IRS reporting & regulation\n\nPresenters: Luke Blackadar\, Arts & Business Council of Greater Boston; Natalie Chaudhury\, Goodwin
URL:https://lawyersclearinghouse.org/event/nonprofit-incorporation-workshop-virtual-34/
LOCATION:Zoom Video Conferencing
CATEGORIES:Legal Workshops for Nonprofits
ORGANIZER;CN="Shifrah Halevi":MAILTO:nonprofit@lawyersclearinghouse.org
END:VEVENT
END:VCALENDAR